BEGIN:VCALENDAR
VERSION:2.0
PRODID:-//JSU Bands- Sonic Boom of the South - ECPv6.14.2//NONSGML v1.0//EN
CALSCALE:GREGORIAN
METHOD:PUBLISH
X-ORIGINAL-URL:https://sites.jsums.edu/sonicboom
X-WR-CALDESC:Events for JSU Bands- Sonic Boom of the South
REFRESH-INTERVAL;VALUE=DURATION:PT1H
X-Robots-Tag:noindex
X-PUBLISHED-TTL:PT1H
BEGIN:VTIMEZONE
TZID:UTC
BEGIN:STANDARD
TZOFFSETFROM:+0000
TZOFFSETTO:+0000
TZNAME:UTC
DTSTART:20170101T000000
END:STANDARD
END:VTIMEZONE
BEGIN:VEVENT
DTSTART;TZID=UTC:20170916T180000
DTEND;TZID=UTC:20170916T180000
DTSTAMP:20260420T174446
CREATED:20190505T160136Z
LAST-MODIFIED:20190507T192250Z
UID:53-1505584800-1505584800@sites.jsums.edu
SUMMARY:Jackson State University vs Grambling State University
DESCRIPTION:Date: \nSEPTEMBER 16\, 2017 \nTime: \n6:00 PM – 9:00 PM
URL:https://sites.jsums.edu/sonicboom/event/jackson-state-university-vs-grambling-state-university/
END:VEVENT
END:VCALENDAR